BEGIN:VCALENDAR
VERSION:2.0
PRODID:-//Sons of the American Revolution - ECPv6.15.18//NONSGML v1.0//EN
CALSCALE:GREGORIAN
METHOD:PUBLISH
X-WR-CALNAME:Sons of the American Revolution
X-ORIGINAL-URL:https://harrisferrysar.org
X-WR-CALDESC:Events for Sons of the American Revolution
REFRESH-INTERVAL;VALUE=DURATION:PT1H
X-Robots-Tag:noindex
X-PUBLISHED-TTL:PT1H
BEGIN:VTIMEZONE
TZID:America/New_York
BEGIN:DAYLIGHT
TZOFFSETFROM:-0500
TZOFFSETTO:-0400
TZNAME:EDT
DTSTART:20250309T070000
END:DAYLIGHT
BEGIN:STANDARD
TZOFFSETFROM:-0400
TZOFFSETTO:-0500
TZNAME:EST
DTSTART:20251102T060000
END:STANDARD
BEGIN:DAYLIGHT
TZOFFSETFROM:-0500
TZOFFSETTO:-0400
TZNAME:EDT
DTSTART:20260308T070000
END:DAYLIGHT
BEGIN:STANDARD
TZOFFSETFROM:-0400
TZOFFSETTO:-0500
TZNAME:EST
DTSTART:20261101T060000
END:STANDARD
BEGIN:DAYLIGHT
TZOFFSETFROM:-0500
TZOFFSETTO:-0400
TZNAME:EDT
DTSTART:20270314T070000
END:DAYLIGHT
BEGIN:STANDARD
TZOFFSETFROM:-0400
TZOFFSETTO:-0500
TZNAME:EST
DTSTART:20271107T060000
END:STANDARD
END:VTIMEZONE
BEGIN:VEVENT
DTSTART;TZID=America/New_York:20260110T110000
DTEND;TZID=America/New_York:20260110T140000
DTSTAMP:20260423T161636
CREATED:20251212T154741Z
LAST-MODIFIED:20251212T154902Z
UID:3074-1768042800-1768053600@harrisferrysar.org
SUMMARY:Harris Ferry Chapter SAR 2026 Annual Meeting
DESCRIPTION:Harris Ferry Chapter SAR 2026 Annual Meeting\nJanuary 10\, 2026 – 11:00 a.m.\nThe Civic Club of Harrisburg – 612 N Front St\, Harrisburg\, PA 17101\nDear Compatriots and Patriotic Partners\, \nYou are cordially invited to the Harris Ferry Chapter SAR 2026 Annual Meeting. The annual meeting will be held on Saturday\, January 10\, 2026 at The Civic Club of Harrisburg at 612 N Front St\, Harrisburg\, PA 17101. The meeting will begin at 11:00 a.m.\, with a recess to enjoy lunch\, and will finish with the program. \nThe agenda for the day consists of a few orders of business\, such as the election and swearing in of the 2026 Harris Ferry Chapter officers\, a recap of the events and successes of 2025\, the presentation of awards\, and an outlook on upcoming events. We will have an enjoyable presentation to close out the meeting. \nThe meal this year is catered by Mission BBQ and will be buffet style. The meal will consist of sliced brisket\, pulled chicken\, mac-n-cheese\, green beans\, slider rolls\, and cornbread. Cost per attendee is $25.00. Guests are also welcome! Please send payment and registration form below to Secretary Gary L. Coburn. \nThere is no street parking or paved parking lot\, however a flat grassy lot is next to The Civic Club of Harrisburg on the right side of Front Street that is parking-permitted. Keep in mind Front Street is a one way street. There will be a sign out front to help provide direction and from where to enter. \nFor those that confirm their attendance\, an email prior the event will be sent out to you with further details regarding timing\, parking\, directions\, and any other last minute updates. We hope to see you there! \nHFSAR 2026 Annual Meeting – Registration
URL:https://harrisferrysar.org/event/harris-ferry-chapter-sar-2026-annual-meeting/
LOCATION:Civic Club of Harrisburg\, 612 N Front St\, Harrisburg\, PA\, 17101\, United States
END:VEVENT
END:VCALENDAR