BEGIN:VCALENDAR
VERSION:2.0
PRODID:-//Sons of the American Revolution - ECPv6.15.18//NONSGML v1.0//EN
CALSCALE:GREGORIAN
METHOD:PUBLISH
X-WR-CALNAME:Sons of the American Revolution
X-ORIGINAL-URL:https://harrisferrysar.org
X-WR-CALDESC:Events for Sons of the American Revolution
REFRESH-INTERVAL;VALUE=DURATION:PT1H
X-Robots-Tag:noindex
X-PUBLISHED-TTL:PT1H
BEGIN:VTIMEZONE
TZID:America/New_York
BEGIN:DAYLIGHT
TZOFFSETFROM:-0500
TZOFFSETTO:-0400
TZNAME:EDT
DTSTART:20240310T070000
END:DAYLIGHT
BEGIN:STANDARD
TZOFFSETFROM:-0400
TZOFFSETTO:-0500
TZNAME:EST
DTSTART:20241103T060000
END:STANDARD
BEGIN:DAYLIGHT
TZOFFSETFROM:-0500
TZOFFSETTO:-0400
TZNAME:EDT
DTSTART:20250309T070000
END:DAYLIGHT
BEGIN:STANDARD
TZOFFSETFROM:-0400
TZOFFSETTO:-0500
TZNAME:EST
DTSTART:20251102T060000
END:STANDARD
BEGIN:DAYLIGHT
TZOFFSETFROM:-0500
TZOFFSETTO:-0400
TZNAME:EDT
DTSTART:20260308T070000
END:DAYLIGHT
BEGIN:STANDARD
TZOFFSETFROM:-0400
TZOFFSETTO:-0500
TZNAME:EST
DTSTART:20261101T060000
END:STANDARD
END:VTIMEZONE
BEGIN:VEVENT
DTSTART;TZID=America/New_York:20251005T140000
DTEND;TZID=America/New_York:20251005T150000
DTSTAMP:20260423T205752
CREATED:20251005T151811Z
LAST-MODIFIED:20251005T151811Z
UID:2969-1759672800-1759676400@harrisferrysar.org
SUMMARY:Liberty Tree Dedication at Hampden Township Veterans Park
DESCRIPTION:The Community is invited to attend the Cumberland County America250PA Liberty Tree dedication at 2:00p.m. on Sunday October 5\, 2025 at the Captain Leon Lock Veterans Memorial. The ceremony will be held at the Hampden Township Veterans park at 4345 Marketplace Way\, Enola\, PA 17025. \n  \n*This qualifies as 250th event
URL:https://harrisferrysar.org/event/liberty-tree-dedication-at-hampden-township-veterans-park/
LOCATION:Hampden Township Veterans Park\, 4345 Marketplace Way\, Enola\, PA\, 17025\, United States
END:VEVENT
BEGIN:VEVENT
DTSTART;VALUE=DATE:20251011
DTEND;VALUE=DATE:20251014
DTSTAMP:20260423T205752
CREATED:20250506T122754Z
LAST-MODIFIED:20251020T012507Z
UID:1945-1760140800-1760399999@harrisferrysar.org
SUMMARY:250th Anniversary of the U.S. Navy and Marines
DESCRIPTION:National Society SAR and Pennsylvania Society SAR event.  Philadelphia\, PA. \nSATURDAY\, OCTOBER 11 \n\n250th Ceremony at Independence Square\nPatriot Grave Markings:\n\nCol. Samuel Nicholas – Commandant of the Marines\nCommodore John Barry – Father of the Navy\n\n\nIndependence Hall Tour\nDinner at Glory Beer Bar & Kitchen\n\nSUNDAY\, OCTOBER 12 \n\nBattle of Germantown Commemoration\n\nSpeaker: Michael Harris\n\n\n5-Patriot Grave Marking at Germantown Upper Burying Ground\n\nMONDAY\, OCTOBER 13 \n\nNavy-Marines Homecoming 250 Parade\nMuseum of the American Revolution Tour\n\nEvent Registration \nHotel Registration \nComplete schedule of events \nNavy_Marines_250_Flyer
URL:https://harrisferrysar.org/event/250th-anniversary-of-the-u-s-navy-and-marines/
LOCATION:PA
END:VEVENT
BEGIN:VEVENT
DTSTART;VALUE=DATE:20251012
DTEND;VALUE=DATE:20251013
DTSTAMP:20260423T205752
CREATED:20251013T033001Z
LAST-MODIFIED:20260120T043048Z
UID:3146-1760227200-1760313599@harrisferrysar.org
SUMMARY:John Harris Jr. Society CAR Organizing Meeting
DESCRIPTION:The John Harris Jr. Society of the Children of the American Revolution is holding its first official Organizing Meeting\, where State President Brasko will install the Society’s Officers and Senior Officers. \nHarris Ferry Chapter President Lemon is the local CAR Society’s Senior Vice President\, and his two children are charter members. \nCome show your support to the future generation of SAR and DAR members!
URL:https://harrisferrysar.org/event/john-harris-jr-society-car-organizing-meeting/
LOCATION:Henderson House\, 17 E Main St\, Hummelstown\, PA\, 17036\, United States
END:VEVENT
BEGIN:VEVENT
DTSTART;TZID=America/New_York:20251018T103000
DTEND;TZID=America/New_York:20251018T120000
DTSTAMP:20260423T205752
CREATED:20250807T160551Z
LAST-MODIFIED:20251013T001832Z
UID:2785-1760783400-1760788800@harrisferrysar.org
SUMMARY:CANCELLED:  Middletown Cemetery Tour
DESCRIPTION:UPDATE:  THIS EVENT IS CANCELLED \nHi everyone!  I had to cancel this event for this year; I didn’t have enough time to research the people I wanted to discuss interred at the cemetery with the list of other things going on.  Let’s find time to do this next year\, as I think this is a fun and educational activity.  I’ll work with the Middletown Historical Association and try to bring in some more attention to it.  Thank you for understanding!  –  President Lemon \n— \nHarris Ferry Chapter invites you to attend a tour of historic Middletown Cemetery! \nYour tour guide\, Chapter President Lemon\, will walk you along the paved paths of the beautiful old section of Middletown Cemetery\, highlighting some of the famous and interesting persons interred on the grounds.  Revolutionary War Patriots are not the only people you will learn about as this cemetery is the resting spot to many other war veterans\, actors\, politicians\, and sports icons. \nSaturday October 18\, 2025 \n\nMiddletown Cemetery (675 N Spring St\, Middletown\, PA 17057)\nStart time:  10:30-12:00\nParking will be determined soon\nRain date will be scheduled as well
URL:https://harrisferrysar.org/event/middletown-cemetery-tour/
LOCATION:Middletown Cemetery\, 675 N Spring St\, Middletown\, PA\, 17057\, United States
END:VEVENT
END:VCALENDAR