BEGIN:VCALENDAR
VERSION:2.0
PRODID:-//Sons of the American Revolution - ECPv6.15.18//NONSGML v1.0//EN
CALSCALE:GREGORIAN
METHOD:PUBLISH
X-ORIGINAL-URL:https://harrisferrysar.org
X-WR-CALDESC:Events for Sons of the American Revolution
REFRESH-INTERVAL;VALUE=DURATION:PT1H
X-Robots-Tag:noindex
X-PUBLISHED-TTL:PT1H
BEGIN:VTIMEZONE
TZID:America/New_York
BEGIN:DAYLIGHT
TZOFFSETFROM:-0500
TZOFFSETTO:-0400
TZNAME:EDT
DTSTART:20240310T070000
END:DAYLIGHT
BEGIN:STANDARD
TZOFFSETFROM:-0400
TZOFFSETTO:-0500
TZNAME:EST
DTSTART:20241103T060000
END:STANDARD
BEGIN:DAYLIGHT
TZOFFSETFROM:-0500
TZOFFSETTO:-0400
TZNAME:EDT
DTSTART:20250309T070000
END:DAYLIGHT
BEGIN:STANDARD
TZOFFSETFROM:-0400
TZOFFSETTO:-0500
TZNAME:EST
DTSTART:20251102T060000
END:STANDARD
BEGIN:DAYLIGHT
TZOFFSETFROM:-0500
TZOFFSETTO:-0400
TZNAME:EDT
DTSTART:20260308T070000
END:DAYLIGHT
BEGIN:STANDARD
TZOFFSETFROM:-0400
TZOFFSETTO:-0500
TZNAME:EST
DTSTART:20261101T060000
END:STANDARD
END:VTIMEZONE
BEGIN:VEVENT
DTSTART;TZID=America/New_York:20250920T100000
DTEND;TZID=America/New_York:20250920T130000
DTSTAMP:20260423T221803
CREATED:20250321T133027Z
LAST-MODIFIED:20250905T213214Z
UID:1499-1758362400-1758373200@harrisferrysar.org
SUMMARY:Constitution Day 2025 and Patriot Grave Marking Ceremony
DESCRIPTION:Harris Ferry Chapter is celebrating Constitution Day this year by honoring a Patriot of the American Revolution with an SAR Patriot Grave Marker!  The Patriot is none other than Timothy Green\, legendary Revolutionary War leader from the Dauphin County area. \nThe following details are tentative at this very moment and to be finalized on Sat Aug 16: \nSaturday September 20\, 2025 \n\n10:00-10:30 Arrival of Guests\n10:30-11:30 Patriot Grave Marking Ceremony for Timothy Green at Dauphin Cemetery (100 Floral Ln\, Dauphin\, PA 17018)\n12:00-12:30 Lunch at Dauphin-Middle Paxton Community Park (700 Claster Blvd\, Dauphin\, PA 17018)\n12:30-1:00  Presentation by Jonathan Miller\, “The Hometown Historian”\n\nAn official program will be released at the event.  The cemetery and the park are across the street from one another\, but realistically if you wish to drive they’re two minutes apart.  The park offers a playground too if you wish to bring any youngsters with! \nThis event offers credit opportunities toward the Color Guard\, 250th Anniversary\, and Patriot Grave Marking Medals. \nFlyer
URL:https://harrisferrysar.org/event/constitution-day-2025-and-patriot-grave-marking-ceremony/
LOCATION:Dauphin Cemetery\, 100 Floral Ln\, Dauphin\, PA\, 17018\, United States
END:VEVENT
BEGIN:VEVENT
DTSTART;TZID=America/New_York:20250924T110000
DTEND;TZID=America/New_York:20250924T130000
DTSTAMP:20260423T221803
CREATED:20250919T205639Z
LAST-MODIFIED:20250919T205837Z
UID:2925-1758711600-1758718800@harrisferrysar.org
SUMMARY:Perry County America250 Liberty Tree Dedication
DESCRIPTION:The community is invited to attend the Perry County America250 Liberty Tree Dedication! \n\n11:00 AM – Wednesday\, September 24\, 2025\nMillerstown Area Community Park (110 W Juniata Pkwy\, Millerstown\, PA 17062)\nThe event will include performances and recitations by students from Greenwood and West Perry School Districts\, Keynote Speaker James Scott\, Director\, Perry County Veterans Affairs\, and much more!\nRevolutionary War Patriots Benjamin Bonsall and Ephraim Williams will be honored for their service\nThree benches will be dedicated at the site along with a marker recognizing participants in Perry County’s America250 efforts\nA Liberty Tree will be dedicated at the park\, and another at Greenwood Schools (each school district in Perry County has planted an SAR-sanctioned Liberty Tree on their properties).\nBronze markers will be placed on the graves of the Patriots following the event.\nAll are welcome to attend as we honor Americanism.  Historic attire is encouraged\, but not required.\nRain date: Thursday\, September 25\, 2025 at 11:00 AM\n\nCome help our Washingtonburg Compatriots in Perry County! \nFlyer
URL:https://harrisferrysar.org/event/perry-county-america250-liberty-tree-dedication/
LOCATION:Millerstown Area Community Park\, 110 W Juniata Pkwy\, Millerstown\, PA\, 17062\, United States
END:VEVENT
BEGIN:VEVENT
DTSTART;TZID=America/New_York:20250927T100000
DTEND;TZID=America/New_York:20250927T120000
DTSTAMP:20260423T221803
CREATED:20250827T200407Z
LAST-MODIFIED:20250919T143050Z
UID:2879-1758967200-1758974400@harrisferrysar.org
SUMMARY:CANCELLED:  Cemetery Preservation Project - Paxton Presbyterian Churchyard
DESCRIPTION:UPDATE:  THIS CEMETERY PROJECT IS CANCELLED\nThe Paxton Presbyterian Church would like to be more involved with this project\, but it was requested to have some more time to review and prepare.  Harris Ferry will postpone this project for later this year or sometime next.  I appreciate your understanding and apologies on any inconveniences!  –  J. Lemon \nCompatriots!  With the success of our recent grave cleaning at Old Hanover\, I figured we could do the exact same thing again!  This time the project will be at Paxton Presbyterian Churchyard in Harrisburg\, the resting place for another large number of American Revolution Patriots.  Included in these hollowed grounds is John Harris Jr.\, to whom our chapter is named after. \nPaxton Presbyterian Churchyard is the site of Harris Ferry Chapter’s Wreaths Across America campaign\, so it only makes sense for us to help spruce that cemetery up more than it already has been by the church.  Criteria for the project will be exactly like before\, but for those who didn’t get to attend before and would like the info\, please see the following. \nWhat will we be doing? \n\nThe plan is to clean as many tombstones as possible\, with a focus on the veteran tombstones first (Patriot stones and those of later wars).  Depending on the number of volunteers in attendance\, that may be easily achieved and we can focus on other stones after.\n\nWhat can YOU do to contribute? \n\nIf you wish to volunteer to clean and help on the stones\, by all means grab a pair of gloves and we’ll put you to work!\nIf you wish to simply watch and learn and hang out\, that is more than welcomed.  A lot of people like to learn about the process and some history along the way\, especially if they’re unable to physically contribute.\nIf someone has a tent we could set up that would be great.  We didn’t need it last time\, but it doesn’t hurt to have in case we want to set it up for those that want coverage.\nIf you wish to make any sort of financial contribution toward supplies or to the chapter\, that is always extremely appreciated.  Contact me regarding this please.\nRSVP to me ASAP if you wish to come\, that is what I TRULY need from you so I can coordinate this effectively.\n\nMiscellaneous \n\nDate/Time:  Saturday\, September 27\, 2025 at 10am to whenever we decide as a group to hang it up.  Last time we cleaned about 50 stones and placed flags in two hours.\nLocation:  3500 Sharon St\, Harrisburg\, PA 17111\nParking:  The church has a substantially large parking lot that should accommodate us all.\nWho is invited?:  Anyone and everyone!  Bring the kids and grandkids\, other SAR/DAR/CAR members\, your neighbors\, all are welcome!  (Just update me on who is confirmed coming\, I’ll  need a headcount.)\nThings to bring:  comfortable/working clothes\, gloves/hat/sunglasses\, sun screen\, foldable chair\, umbrella (to shield the sun even).  Being September\, we should hopefully out of the obnoxiously hot weather.\nThings not to bring:  pets\, SAR medals or regalia\, fancy clothes (you’re going to get dirty if you’re volunteering)\nRefreshments:  water will be available as well as light refreshments.\n\nThat should be about everything\, I’ll update this as I get more things hammered out.  Please check this posting on the website for these updates.  That link is:  https://harrisferrysar.org/event/cemetery-preservation-project-paxton-presbyterian-churchyard/. \nThis project is meant to be fun\, constructive\, educational\, and historical.  Your cooperation and assistance is invaluable. \nContact me if you are volunteering\, wish to attend as a bystander\, wish to donate\, wish to bring things to help out (tents\, chairs\, water\, food\, etc)\, or if you have any questions at all.  You can reach me at the following email or phone number.  If you call me\, please leave a message and I’ll return your call (weeds out the spam calls we all get).  You may also text. \n\nemail:  jlemon93@hotmail.com\nphone:  (717) 507-5364\n\nThank You!  –  Jacob R. Lemon\, President\, Harris Ferry Chapter\, Sons of the American Revolution \nMiscellaneous Links \n\nFind a Grave for Paxton Presbyterian Churchyard
URL:https://harrisferrysar.org/event/cemetery-preservation-project-paxton-presbyterian-churchyard/
LOCATION:Paxton Presbyterian Church Cemetery\, 3500 Sharon Street\, Harrisburg\, PA\, 17111\, United States
END:VEVENT
END:VCALENDAR