BEGIN:VCALENDAR
VERSION:2.0
PRODID:-//Sons of the American Revolution - ECPv6.15.18//NONSGML v1.0//EN
CALSCALE:GREGORIAN
METHOD:PUBLISH
X-ORIGINAL-URL:https://harrisferrysar.org
X-WR-CALDESC:Events for Sons of the American Revolution
REFRESH-INTERVAL;VALUE=DURATION:PT1H
X-Robots-Tag:noindex
X-PUBLISHED-TTL:PT1H
BEGIN:VTIMEZONE
TZID:America/New_York
BEGIN:DAYLIGHT
TZOFFSETFROM:-0500
TZOFFSETTO:-0400
TZNAME:EDT
DTSTART:20240310T070000
END:DAYLIGHT
BEGIN:STANDARD
TZOFFSETFROM:-0400
TZOFFSETTO:-0500
TZNAME:EST
DTSTART:20241103T060000
END:STANDARD
BEGIN:DAYLIGHT
TZOFFSETFROM:-0500
TZOFFSETTO:-0400
TZNAME:EDT
DTSTART:20250309T070000
END:DAYLIGHT
BEGIN:STANDARD
TZOFFSETFROM:-0400
TZOFFSETTO:-0500
TZNAME:EST
DTSTART:20251102T060000
END:STANDARD
BEGIN:DAYLIGHT
TZOFFSETFROM:-0500
TZOFFSETTO:-0400
TZNAME:EDT
DTSTART:20260308T070000
END:DAYLIGHT
BEGIN:STANDARD
TZOFFSETFROM:-0400
TZOFFSETTO:-0500
TZNAME:EST
DTSTART:20261101T060000
END:STANDARD
END:VTIMEZONE
BEGIN:VEVENT
DTSTART;TZID=America/New_York:20250608T130000
DTEND;TZID=America/New_York:20250608T150000
DTSTAMP:20260424T020445
CREATED:20250506T123153Z
LAST-MODIFIED:20250608T202708Z
UID:1948-1749387600-1749394800@harrisferrysar.org
SUMMARY:C.A.R. Open House w/ Harrisburg Chapter\, NSDAR
DESCRIPTION:An open house for those interested in enrolling new youth members in the new John Harris Jr. Society of the Children of the American Revolution. \nHosted by the Harrisburg Chapter\, NSDAR at the Henderson House in Hummelstown. \nJune 8th at 1pm. \nA light event\, dress is casual\, bring your kids\, grandkids\, anyone who may be interested in signing up!  Children under the age of 22 with a patriot ancestor are eligible\, and if YOU are a member of the SAR or DAR\, they can use most of your application during the signing up process (which can be done later\, no need to do any of that at this open house).
URL:https://harrisferrysar.org/event/c-a-r-open-house-w-harrisburg-chapter-nsdar/
LOCATION:Henderson House\, 17 E Main St\, Hummelstown\, PA\, 17036\, United States
END:VEVENT
BEGIN:VEVENT
DTSTART;TZID=America/New_York:20250614T090000
DTEND;TZID=America/New_York:20250614T210000
DTSTAMP:20260424T020445
CREATED:20250506T122430Z
LAST-MODIFIED:20250511T024133Z
UID:1943-1749891600-1749934800@harrisferrysar.org
SUMMARY:250th Anniversary of the U.S. Army
DESCRIPTION:National Society SAR and Virginia Society SAR event are hosting the 250th Anniversary of the U.S. Army! \nNSSAR 250th U.S. Army – Flyer \n\nMount Vernon @ 9am-12pm (free)\n\n250 Ceremony @ 10am (free)\nGrave Marking @ 11am (free)\n\n\nLuncheon at the Mount Vernon Inn @ 12pm ($$$)\nU.S. Army Museum Tour @ 2-5pm (free)\nGala Dinner Hosted by George Washington @ 6-9pm ($$$)\n\nFor prices and more details\, please see the registration. \nRegistration Link \nHotel Registration (Marriott)
URL:https://harrisferrysar.org/event/250th-anniversary-of-the-u-s-army/
LOCATION:PA
END:VEVENT
BEGIN:VEVENT
DTSTART;TZID=America/New_York:20250614T110000
DTEND;TZID=America/New_York:20250614T130000
DTSTAMP:20260424T020445
CREATED:20250506T123319Z
LAST-MODIFIED:20250601T020038Z
UID:1950-1749898800-1749906000@harrisferrysar.org
SUMMARY:Flag Day w/ Harrisburg Chapter\, NSDAR
DESCRIPTION:The Harrisburg Chapter Daughters of the American Revolution has invited Harris Ferry Chapter Sons of the American Revolution to the annual Flag Day event! \nTime/Date: June 14th.  Registration 11:00 am.  Business Meeting/America 250! 11:30 am\nProgram: Flag retirement and installation of new flag\nWhere: Henderson House\, 31 East Main Street\, Hummelstown\, PA.\nMenu: Sub sandwiches\, chips\, cookies\, bottled water\nCost: $10\nRSVP By: Thursday\, June 5\, at noon \nIf you prefer to phone in your reservation\, or have any questions\, please call Bobbi Kitzmiller at (717) 774-3824.  If you wish to email your RSVP\, please contact Harris Ferry President Lemon and he will forward you the email from the DAR.
URL:https://harrisferrysar.org/event/flag-day-w-harrisburg-chapter-nsdar/
LOCATION:Henderson House\, 17 E Main St\, Hummelstown\, PA\, 17036\, United States
END:VEVENT
END:VCALENDAR