BEGIN:VCALENDAR
VERSION:2.0
PRODID:-//Sons of the American Revolution - ECPv6.15.18//NONSGML v1.0//EN
CALSCALE:GREGORIAN
METHOD:PUBLISH
X-WR-CALNAME:Sons of the American Revolution
X-ORIGINAL-URL:https://harrisferrysar.org
X-WR-CALDESC:Events for Sons of the American Revolution
REFRESH-INTERVAL;VALUE=DURATION:PT1H
X-Robots-Tag:noindex
X-PUBLISHED-TTL:PT1H
BEGIN:VTIMEZONE
TZID:America/New_York
BEGIN:DAYLIGHT
TZOFFSETFROM:-0500
TZOFFSETTO:-0400
TZNAME:EDT
DTSTART:20240310T070000
END:DAYLIGHT
BEGIN:STANDARD
TZOFFSETFROM:-0400
TZOFFSETTO:-0500
TZNAME:EST
DTSTART:20241103T060000
END:STANDARD
BEGIN:DAYLIGHT
TZOFFSETFROM:-0500
TZOFFSETTO:-0400
TZNAME:EDT
DTSTART:20250309T070000
END:DAYLIGHT
BEGIN:STANDARD
TZOFFSETFROM:-0400
TZOFFSETTO:-0500
TZNAME:EST
DTSTART:20251102T060000
END:STANDARD
BEGIN:DAYLIGHT
TZOFFSETFROM:-0500
TZOFFSETTO:-0400
TZNAME:EDT
DTSTART:20260308T070000
END:DAYLIGHT
BEGIN:STANDARD
TZOFFSETFROM:-0400
TZOFFSETTO:-0500
TZNAME:EST
DTSTART:20261101T060000
END:STANDARD
END:VTIMEZONE
BEGIN:VEVENT
DTSTART;TZID=America/New_York:20250412T140000
DTEND;TZID=America/New_York:20250412T150000
DTSTAMP:20260424T044233
CREATED:20241226T204134Z
LAST-MODIFIED:20250407T021057Z
UID:658-1744466400-1744470000@harrisferrysar.org
SUMMARY:Marker Dedication at Stroh's Cemetery with Harrisburg\, NSDAR
DESCRIPTION:The Harrisburg Chapter Daughters of the American Revolution is holding a marker dedication ceremony for two Pennsylvania Revolutionary War Patriots at Stroh’s Cemetery in Lower Paxton.  The Chapter has graciously invited the Harris Ferry Chapter SAR to attend. \nStart time is 2:00 PM\, please arrive at least 15 minutes early\n401 Fishing Creek Valley Rd\, Harrisburg\, PA 17112 \nThe Harris Ferry Chapter SAR has a significant link to this cemetery\, as Past President and Compatriot Oscar H. Stroh is buried here.  Mr. Stroh was instrumental in compiling\, detailing\, and publishing countless records on Dauphin Country Revolutionary War Patriots. \nFollowing the DAR’s ceremony\, Harris Ferry will conduct its own Patriot and Compatriot Grave Marking Ceremony for Patriots George Stroh\, Christian Stucky\, and Compatriot Oscar H. Stroh.  The ceremony will be slightly condensed\, since the DAR will have handled the majority of the rituals. \nStroh’s Cemetery is located on the Boyd Big Tree Preserve Conservation Area\, 401 Fishing Creek Valley Rd\, Harrisburg\, PA 17112 \n*Qualifies as a 250th event \nDAR – Stroh Cemetery Marker Dedication – Invitation \nHFSAR – Stroh Cemetery Marker Dedication – Invitation
URL:https://harrisferrysar.org/event/marker-dedication-at-strohs-cemetery/
LOCATION:Stroh’s Cemetery\, 401 Fishing Creek Valley Rd\, Harrisburg\, PA\, 17112\, United States
END:VEVENT
BEGIN:VEVENT
DTSTART;VALUE=DATE:20250418
DTEND;VALUE=DATE:20250422
DTSTAMP:20260424T044233
CREATED:20250116T162726Z
LAST-MODIFIED:20250418T025431Z
UID:663-1744934400-1745279999@harrisferrysar.org
SUMMARY:250th Anniversary of the Battles of Lexington and Concord - NSSAR & MASSAR Event
DESCRIPTION:As part of the 250th Anniversary of the America and the Decade of the American Revolution\, the National Society SAR\, Massachusetts Society SAR and New England District SAR have organized several events and activities: \nApr 18-21 – 250th Celebration of the Battles of Lexington and Concord (Massachusetts) \n\nNational Society SAR event\nRegistration and pricing for the event is now closed\nColor Guard and 250th Anniversary Medal Opportunities\nMASSAR 250 page\nEvent Flyer\nInformation Session PowerPoint\nSpecial rate at Boston Marriott Burlington ends Mar 28 and can be accessed at the following link\n\nHarris Ferry Chapter SAR President Lemon is attending.
URL:https://harrisferrysar.org/event/250th-anniversary-of-the-battles-of-lexington-and-concord-nssar-massar-event/
LOCATION:PA
END:VEVENT
BEGIN:VEVENT
DTSTART;TZID=America/New_York:20250426T100000
DTEND;TZID=America/New_York:20250426T110000
DTSTAMP:20260424T044233
CREATED:20250116T163828Z
LAST-MODIFIED:20250501T190908Z
UID:908-1745661600-1745665200@harrisferrysar.org
SUMMARY:Marker Dedication at Buck Cemetery with Harrisburg Hunters' and Anglers' Association
DESCRIPTION:Buck Cemetery is located on the grounds of the Harrisburg Hunters’ and Anglers’ Association.  Many years ago\, the Harris Ferry Chapter SAR dedicated the cemetery in honor of Patriot John Buck.  Now\, in 2025\, the two groups would like to revisit the cemetery’s status and ensure an SAR Patriot Grave Marker is present.\n\nStart time is 10:00 AM\, please arrive at least 15 minutes early.\n6611 Hunters Run Road\, Harrisburg\, PA 17111 \nIf raining:  the event will be held inside at the clubhouse.  If still held outside\, dress appropriately for the weather. \n*Qualifies as a 250th Event \nHFSAR Buck Cemetery Marker Dedication – Invitation \nMore information on the cemetery can be found on the website of the HHAA here: https://www.harrisburghunters.org/cemetary \nFind A Grave for Buck Cemetery
URL:https://harrisferrysar.org/event/marker-dedication-at-buck-family-cemetery-with-harrisburg-hunters-and-anglers-association/
LOCATION:Harrisburg Hunters’ and Anglers’ Association\, 6611 Hunters Run Rd\, Harrisburg\, PA\, 17111\, United States
END:VEVENT
END:VCALENDAR