BEGIN:VCALENDAR
VERSION:2.0
PRODID:-//Sons of the American Revolution - ECPv6.15.18//NONSGML v1.0//EN
CALSCALE:GREGORIAN
METHOD:PUBLISH
X-WR-CALNAME:Sons of the American Revolution
X-ORIGINAL-URL:https://harrisferrysar.org
X-WR-CALDESC:Events for Sons of the American Revolution
REFRESH-INTERVAL;VALUE=DURATION:PT1H
X-Robots-Tag:noindex
X-PUBLISHED-TTL:PT1H
BEGIN:VTIMEZONE
TZID:America/New_York
BEGIN:DAYLIGHT
TZOFFSETFROM:-0500
TZOFFSETTO:-0400
TZNAME:EDT
DTSTART:20240310T070000
END:DAYLIGHT
BEGIN:STANDARD
TZOFFSETFROM:-0400
TZOFFSETTO:-0500
TZNAME:EST
DTSTART:20241103T060000
END:STANDARD
BEGIN:DAYLIGHT
TZOFFSETFROM:-0500
TZOFFSETTO:-0400
TZNAME:EDT
DTSTART:20250309T070000
END:DAYLIGHT
BEGIN:STANDARD
TZOFFSETFROM:-0400
TZOFFSETTO:-0500
TZNAME:EST
DTSTART:20251102T060000
END:STANDARD
BEGIN:DAYLIGHT
TZOFFSETFROM:-0500
TZOFFSETTO:-0400
TZNAME:EDT
DTSTART:20260308T070000
END:DAYLIGHT
BEGIN:STANDARD
TZOFFSETFROM:-0400
TZOFFSETTO:-0500
TZNAME:EST
DTSTART:20261101T060000
END:STANDARD
END:VTIMEZONE
BEGIN:VEVENT
DTSTART;VALUE=DATE:20250227
DTEND;VALUE=DATE:20250302
DTSTAMP:20260424T060539
CREATED:20241226T043405Z
LAST-MODIFIED:20250212T172136Z
UID:642-1740614400-1740873599@harrisferrysar.org
SUMMARY:Spring NSSAR Leadership Meeting
DESCRIPTION:National Society SAR event\, scheduled for Feb. 27 – Mar. 1\, 2025 at The Galt House in Kentucky\, USA. \nThe following is copy/pasted from the SAR Event Page: \nLink to E-Packet \nLink to Meeting Schedule \n2025 SPRING LEADERSHIP \nCONFERENCE/TRUSTEES MEETING \nIt is my pleasure to invite you to the Spring Leadership Conference/Trustees Meeting which will be held at the Galt House Hotel in Louisville\, Kentucky\, on February 27-March 1\, 2025. \nNational committees will primarily meet on Thursday and Friday. It is the responsibility of each chairman to notify committee members of the time and place of their meeting. The schedule of meeting times and places will soon be linked to this page and on sar.org. The Trustees meet on Saturday morning where reports will be presented by national officers and committee chairmen. Please note that Kelly Moore must have your written report no later than January 31\, 2025. The report form can be found on the SAR website here. Banquets are scheduled for Friday and Saturday evenings for your social pleasure. \nFor those interested in accommodations at the Galt House Hotel: Friday night of the SAR room block is full\, and the other nights have limited availability. I recommend you contact our Group Rooms Coordinator\, Emily Dudley\, directly at 502-569-4525 or edudley@ajshotels.com. Keep in mind that if you need your reservation to include Friday night\, you will likely pay the regular Galt House rate for that night. There are also many other hotels nearby such as The Brown\, The Hyatt\, Louisville Marriott\, Homewood Suites\, Holiday Inn Express\, or Omni Louisville. \nThere is a Welcome Reception for Leadership attendees in the Waterford Room on the 25th Floor of the West Tower of the Galt House Hotel on February 27 from 4:00 pm-6:00 pm (EST). We need a headcount for this event\, so please add it to your registration if you wish to attend. \nWe have one pre-meeting form for you to review and sign (which can be completed electronically). It can be turned in to Compliance Officer Scott Collins\, or to Kelly Moore in person upon arrival or your earliest convenience. NOTE: if you already signed a Conflict of Interest form at the Lancaster Congress or Fall Leadership\, you do not need to sign another until Congress 2025. \nConflict of Interest Form \nFor additional information\, the office point of contact is Kelly Moore (1-502-589-1776 or 502-588-6123 or kmoore@sar.org). \nSincerely\, \nMike Scroggins\, Executive Director \nFYI – Both members and spouses/significant others are required to pay the $40 registration fee. Be sure to click “yes” to the question\, “Is this guest your spouse/significant other?” \nLATE REGISTRATION begins at 12:00 AM (EST) on February 20\, 2025. The registration fee will be $90 for members and spouses/significant others starting on this date. \nCANCELLATION AND REFUND POLICY: \nThrough the close of business (5:00 pm EST) on February 13\, 2025: full refund. \nAfter the close of business on February 13th through the close of business (5:00 pm EST) on February 20\, 2025: a partial refund is available. \nAfter the close of business (5:00 pm EST) on February 20\, 2025: no refunds are available. \nSpecial Diets/Allergies – When listing dietary issues or allergies\, please only include details that pertain to the meals listed on the registration. If you have no dietary concerns\, there is no need to enter any notes. The vegetarian/vegan/gluten free option is predetermined and limited to those who are vegetarian/vegan or may encounter allergies to a meal description. Other food options are not available. \nAttendees with special diet requirements will have assigned tables in order to get your meal to you quickly and efficiently. Table assignments will be spread across several numbered tables\, allowing other attendees to join those tables. Table assignments will be posted outside the doors of the Archibald Ballroom on the 3rd Floor of the West Tower before each banquet. \nWe will not be offering Continental Breakfast on Friday for this Leadership. Breakfast is available in Walker’s Exchange Restaurant (open 6:30am-10:30am for breakfast\, reservations recommended)\, and Thelma’s grab-and-go in the 3rd Floor Conservatory opens at 7:00am. \nThe Recognition Breakfast for donors that is typically held Saturday morning has been changed to a lunch on Friday. This is by invitation only and does not appear on the online registration. Invites will be sent out by Brittany Austin. This lunch is sponsored\, and you will RSVP to Brittany. \nOfficer/Special Guest seating – General Officers\, former PGs\, VPGs\, and ExCom members and their guests will have assigned seats at numbered tables for the Friday night banquet. On Saturday night\, General Officers and guests will be seated on a riser\, and former Presidents General and guests will be seated at a head table on the floor in front of the riser. This is a safety precaution. No assigned seats for VPGs and ExCom on Saturday. Speakers and other special guests will be seated with the President General. \nPackets – In an effort to reduce paper usage and printing\, most of the information previously found in packets will be digital only. A link can be found at the top of this page where you can view the information and print what you need. Names tags\, along with special information such as that pertaining to special diets or first-time attendees\, will be in envelopes that can be picked up from Registration in the LILY ROOM\, 2nd Floor\, West Tower\, beginning Thursday\, February 27\, at 10:00am. \nMerchandise – Thursday\, February 27\, is for pre-order pickup and room setup only. No engraving or calligraphy services available for pre-orders. All pre-orders must be in the system by end of business on Tuesday\, February 25. The Merchandise store setup at the Galt House will be primarily apparel only. The Merchandise Department at Headquarters will be closed for business.
URL:https://harrisferrysar.org/event/spring-nssar-leadership-meeting/
LOCATION:The Galt House Hotel\, 140 N. Fourth St.\, Lousiville\, KY\, 40202\, United States
END:VEVENT
BEGIN:VEVENT
DTSTART;TZID=America/New_York:20250301T090000
DTEND;TZID=America/New_York:20250301T103000
DTSTAMP:20260424T060539
CREATED:20250222T023106Z
LAST-MODIFIED:20250222T023222Z
UID:1237-1740819600-1740825000@harrisferrysar.org
SUMMARY:Harris Ferry BOM Meeting
DESCRIPTION:Evening Compatriots!\n\nThere will be a BOM meeting for the Harris Ferry Chapter SAR for Saturday\, March 1\, 2025 at 9:00am at the Wertzville Diner in Enola.\n\n\nPlease email President Lemon if you’ll be attending as we have a pretty full agenda of topics to discuss.  Some topics will be minor (no more than two minutes or so each)\, while others may warrant some lengthy discussion (potentially ten minutes each).\n\nWe have some rather important events approaching in mid-March and April that I’d like to go over\, including several grave marking ceremonies\, one of which Harris Ferry has an extremely heavy hand in.\n\nA key component of this meeting will be discussing and organizing some committees and chairs to said committees\, so attendance is vital\, especially if you’d like a chance to help out with those!\n\nI encourage you to attend!  Order some breakfast and participate in some discussions as we kick off 2025.  Expect to wrap up around 10:30-11:00 (so a 90 minute-ish meeting including breakfast).\n\nAgain\, please let me know if you’ll be attending.  This will help me gauge our attendance for the restaurant staff.  Thank you all so much!
URL:https://harrisferrysar.org/event/harris-ferry-bom-meeting-4/
LOCATION:The Olive Tree (formerly Wertzville Diner)\, 743 Wertzville Rd\, Enola\, PA\, 17025\, United States
END:VEVENT
BEGIN:VEVENT
DTSTART;TZID=America/New_York:20250315T133000
DTEND;TZID=America/New_York:20250315T143000
DTSTAMP:20260424T060539
CREATED:20241226T194900Z
LAST-MODIFIED:20250330T150247Z
UID:651-1742045400-1742049000@harrisferrysar.org
SUMMARY:Marker Dedication at Wenrich's Cemetery with Harrisburg Chapter\, NSDAR
DESCRIPTION:The Harrisburg Chapter Daughters of the American Revolution is holding a dedication ceremony for nine Revolutionary War Patriots who are receiving DAR markers at Wenrich’s Cemetery in Linglestown.  The Chapter has graciously invited the Harris Ferry Chapter SAR to attend. \nStart time is 2:00 PM\, please arrive at least 15 minutes early. \n*Qualifies as a 250th event \nDAR Wenrich Cemetery Marker Dedication – Invitation
URL:https://harrisferrysar.org/event/marker-dedication-at-wenrichs-cemetery-with-harrisburg-chapter-nsdar/
LOCATION:Wenrich’s Cemetery\, 6490 Linglestown Road\, Harrisburg\, PA\, 17112\, United States
END:VEVENT
BEGIN:VEVENT
DTSTART;VALUE=DATE:20250328
DTEND;VALUE=DATE:20250329
DTSTAMP:20260424T060539
CREATED:20241226T200511Z
LAST-MODIFIED:20250310T234848Z
UID:654-1743120000-1743206399@harrisferrysar.org
SUMMARY:CANCELLED:  Cemetery Cleanup at Stroh's Cemetery with Harrisburg Chapter\, NSDAR
DESCRIPTION:The Harrisburg Chapter Daughters of the American Revolution is holding a cemetery cleanup at Stroh’s Cemetery in Lower Paxton on March 28th\, with the intention of a marker dedication ceremony for two Patriots at later date (April 12th).  The Chapter has graciously invited the Harris Ferry Chapter SAR to attend. Start time is TBD\, please arrive at least 15 minutes early. \nPlease bring yard tools like rakes\, weed eaters\, containers of gasoline\, gloves\, eye and ear protection\, etc. \nIMPORTANT NOTE:  If you wish to attend the cleanup\, you MUST contact President Lemon.  The cemetery is on property that requires authorization for legal and safety reasons (ie. in the event you’re injured).  Your name and phone number will be given to the DAR to communicate with the appropriate parties. \nThe Harris Ferry Chapter SAR has a significant link to this cemetery\, as Past President and Compatriot Oscar H. Stroh is buried here.  Mr. Stroh was instrumental in compiling\, detailing\, and publishing countless records on Dauphin Country Revolutionary War Patriots.  It will be suggested at an upcoming BOM meeting that we raise funds for a Compatriot Grave Marker to be purchased and installed; more details to follow.  If the BOM approves this idea\, we will conduct our own Compatriot Grave Marking Ceremony for Oscar H. Stroh alongside the DAR’s Patriot Grave Marking Ceremony.  Again\, more details to follow. \nStroh’s Cemetery is located on the Boyd Big Tree Preserve Conservation Area\, 401 Fishing Creek Valley Rd\, Harrisburg\, PA 17112
URL:https://harrisferrysar.org/event/cemetery-cleanup-at-strohs-cemetery-with-harrisburg-chapter-nsdar/
LOCATION:Stroh’s Cemetery\, 401 Fishing Creek Valley Rd\, Harrisburg\, PA\, 17112\, United States
END:VEVENT
END:VCALENDAR