BEGIN:VCALENDAR
VERSION:2.0
PRODID:-//Sons of the American Revolution - ECPv6.15.18//NONSGML v1.0//EN
CALSCALE:GREGORIAN
METHOD:PUBLISH
X-WR-CALNAME:Sons of the American Revolution
X-ORIGINAL-URL:https://harrisferrysar.org
X-WR-CALDESC:Events for Sons of the American Revolution
REFRESH-INTERVAL;VALUE=DURATION:PT1H
X-Robots-Tag:noindex
X-PUBLISHED-TTL:PT1H
BEGIN:VTIMEZONE
TZID:America/New_York
BEGIN:DAYLIGHT
TZOFFSETFROM:-0500
TZOFFSETTO:-0400
TZNAME:EDT
DTSTART:20210314T070000
END:DAYLIGHT
BEGIN:STANDARD
TZOFFSETFROM:-0400
TZOFFSETTO:-0500
TZNAME:EST
DTSTART:20211107T060000
END:STANDARD
BEGIN:DAYLIGHT
TZOFFSETFROM:-0500
TZOFFSETTO:-0400
TZNAME:EDT
DTSTART:20220313T070000
END:DAYLIGHT
BEGIN:STANDARD
TZOFFSETFROM:-0400
TZOFFSETTO:-0500
TZNAME:EST
DTSTART:20221106T060000
END:STANDARD
BEGIN:DAYLIGHT
TZOFFSETFROM:-0500
TZOFFSETTO:-0400
TZNAME:EDT
DTSTART:20230312T070000
END:DAYLIGHT
BEGIN:STANDARD
TZOFFSETFROM:-0400
TZOFFSETTO:-0500
TZNAME:EST
DTSTART:20231105T060000
END:STANDARD
BEGIN:DAYLIGHT
TZOFFSETFROM:-0500
TZOFFSETTO:-0400
TZNAME:EDT
DTSTART:20240310T070000
END:DAYLIGHT
BEGIN:STANDARD
TZOFFSETFROM:-0400
TZOFFSETTO:-0500
TZNAME:EST
DTSTART:20241103T060000
END:STANDARD
BEGIN:DAYLIGHT
TZOFFSETFROM:-0500
TZOFFSETTO:-0400
TZNAME:EDT
DTSTART:20250309T070000
END:DAYLIGHT
BEGIN:STANDARD
TZOFFSETFROM:-0400
TZOFFSETTO:-0500
TZNAME:EST
DTSTART:20251102T060000
END:STANDARD
END:VTIMEZONE
BEGIN:VEVENT
DTSTART;TZID=America/New_York:20241012T100000
DTEND;TZID=America/New_York:20241012T183000
DTSTAMP:20260423T175512
CREATED:20241219T150028Z
LAST-MODIFIED:20260101T193822Z
UID:447-1728727200-1728757800@harrisferrysar.org
SUMMARY:250th Anniversary of First Continental Congress - NSSAR & PASSAR Event
DESCRIPTION:As part of the 250th Anniversary of the America and the Decade of the American Revolution\, the National Society SAR\, Pennsylvania Society SAR\, Philadelphia Continental Chapter SAR have organized several events and activities: \n\nTour of the Harriton House\n\n11:00 AM at Harriton House\, 500 Harriton Rd\, Bryn Mawr\, PA 19010\n\n\nPatriot Grave Marking Ceremony for Charles Thomson*\n\n1:00 PM at Laurel Hill East Cemetery\, 3822 Ridge Avenue\, Philadelphia\, PA 19132\n\n\n250th Anniversary of the First Continental Congress at Carpenters’ Hall*\n\n4:00 PM at Carpenters’ Hall\, 320 Chestnut St\, Philadelphia\, PA 19106\n\n\nTour of Carpenters’ Hall\n\nFollowing ceremony\n\n\nInvite to dinner to follow\n\n*Qualifies as a 250th Event
URL:https://harrisferrysar.org/event/250th-anniversary-of-first-continental-congress-passar-event/
LOCATION:PA
END:VEVENT
BEGIN:VEVENT
DTSTART;TZID=America/New_York:20240922T120000
DTEND;TZID=America/New_York:20240922T140000
DTSTAMP:20260423T175512
CREATED:20241219T144126Z
LAST-MODIFIED:20241223T193113Z
UID:444-1727006400-1727013600@harrisferrysar.org
SUMMARY:Constitution Day
DESCRIPTION:Constitution Day celebration at Creekview Park.  Lunch to be provided.  The Hometown Historian Jonathan Miller will deliver a presentation on Pennsylvania’s involvement with drafting the Constitution.
URL:https://harrisferrysar.org/event/constitution-day/
LOCATION:Creekview Park\, 4630 Creekview Rd\, Mechanicsburg\, PA\, 17050\, United States
END:VEVENT
BEGIN:VEVENT
DTSTART;TZID=America/New_York:20240615T100000
DTEND;TZID=America/New_York:20240615T120000
DTSTAMP:20260423T175512
CREATED:20241219T143434Z
LAST-MODIFIED:20241223T193117Z
UID:440-1718445600-1718452800@harrisferrysar.org
SUMMARY:Flag Day with Harrisburg Chapter\, NSDAR
DESCRIPTION:The Harrisburg Chapter\, NSDAR will hold a celebration and picnic for Flag Day at The Henderson House.  The Hometown Historian Jonathan Miller will deliver a presentation on the Hanover Resolves.
URL:https://harrisferrysar.org/event/flag-day-with-harrisburg-chapter-nsdar/
LOCATION:Henderson House\, 17 E Main St\, Hummelstown\, PA\, 17036\, United States
END:VEVENT
BEGIN:VEVENT
DTSTART;TZID=America/New_York:20240601T100000
DTEND;TZID=America/New_York:20240601T120000
DTSTAMP:20260423T175512
CREATED:20241219T142839Z
LAST-MODIFIED:20241223T193121Z
UID:435-1717236000-1717243200@harrisferrysar.org
SUMMARY:Tour of Pennsylvania State Archives
DESCRIPTION:Aaron McWilliams will provide a tour and presentation on the PA State Archives and explain how to access records from the Revolutionary War.
URL:https://harrisferrysar.org/event/tour-of-pennsylvania-state-archives/
LOCATION:Pennsylvania State Archives\, 1681 N 6th St\, Harrisburg\, PA\, 17102\, United States
END:VEVENT
BEGIN:VEVENT
DTSTART;TZID=America/New_York:20240511T083000
DTEND;TZID=America/New_York:20240511T110000
DTSTAMP:20260423T175512
CREATED:20240427T002611Z
LAST-MODIFIED:20240427T002611Z
UID:402-1715416200-1715425200@harrisferrysar.org
SUMMARY:Harris Ferry BOM Meeting
DESCRIPTION:Starts at 8:30 AM at the Wertzville Diner.
URL:https://harrisferrysar.org/event/harris-ferry-bom-meeting/
LOCATION:PA
END:VEVENT
BEGIN:VEVENT
DTSTART;TZID=America/New_York:20240504T080000
DTEND;TZID=America/New_York:20240504T170000
DTSTAMP:20260423T175512
CREATED:20240427T002132Z
LAST-MODIFIED:20240427T002132Z
UID:398-1714809600-1714842000@harrisferrysar.org
SUMMARY:PASSAR BOM
DESCRIPTION:
URL:https://harrisferrysar.org/event/passar-bom/
LOCATION:PA
END:VEVENT
BEGIN:VEVENT
DTSTART;TZID=America/New_York:20240420T083000
DTEND;TZID=America/New_York:20240420T223000
DTSTAMP:20260423T175512
CREATED:20241219T154930Z
LAST-MODIFIED:20241219T154930Z
UID:462-1713601800-1713652200@harrisferrysar.org
SUMMARY:Harris Ferry BOM Meeting
DESCRIPTION:Starts at 8:30 AM at the Wertzville Diner.
URL:https://harrisferrysar.org/event/harris-ferry-bom-meeting-3/
LOCATION:The Olive Tree (formerly Wertzville Diner)\, 743 Wertzville Rd\, Enola\, PA\, 17025\, United States
END:VEVENT
BEGIN:VEVENT
DTSTART;TZID=America/New_York:20231216T090000
DTEND;TZID=America/New_York:20231216T170000
DTSTAMP:20260423T175512
CREATED:20230818T234717Z
LAST-MODIFIED:20230818T234717Z
UID:372-1702717200-1702746000@harrisferrysar.org
SUMMARY:Wreaths Across America
DESCRIPTION:Wreath laying ceremony at Paxton Presbyterian Church \nStarts at 9AM \nLocated at 3500 Sharon Street Harrisburg\, PA 17111
URL:https://harrisferrysar.org/event/wreaths-across-america/
LOCATION:Paxton Presbyterian Church Cemetery\, 3500 Sharon Street\, Harrisburg\, PA\, 17111\, United States
END:VEVENT
BEGIN:VEVENT
DTSTART;VALUE=DATE:20231118
DTEND;VALUE=DATE:20231119
DTSTAMP:20260423T175512
CREATED:20230818T234203Z
LAST-MODIFIED:20230818T234203Z
UID:375-1700265600-1700351999@harrisferrysar.org
SUMMARY:Annual Meeting
DESCRIPTION:The Annual Meeting will be held at the Colonial Golf and Tennis Club. More details to follow.
URL:https://harrisferrysar.org/event/annual-meeting/
LOCATION:Colonial Golf and Tennis Club\, 4901 Linglestown Road\, Harrisburg\, PA\, 17112\, United States
END:VEVENT
BEGIN:VEVENT
DTSTART;TZID=America/New_York:20230916T090000
DTEND;TZID=America/New_York:20230916T110000
DTSTAMP:20260423T175512
CREATED:20230818T234614Z
LAST-MODIFIED:20230818T234614Z
UID:377-1694854800-1694862000@harrisferrysar.org
SUMMARY:Board of Management Meeting
DESCRIPTION:
URL:https://harrisferrysar.org/event/board-of-management-meeting/
LOCATION:Enola Family Restaurant\, 743 Wertzville Road\, East Pennsboro Township\, PA\, 17025\, United States
END:VEVENT
BEGIN:VEVENT
DTSTART;TZID=America/New_York:20221119T110000
DTEND;TZID=America/New_York:20221119T130000
DTSTAMP:20260423T175512
CREATED:20221007T201538Z
LAST-MODIFIED:20221007T201650Z
UID:294-1668855600-1668862800@harrisferrysar.org
SUMMARY:Harris Ferry Annual Meeting/Brunch
DESCRIPTION:
URL:https://harrisferrysar.org/event/harris-ferry-annual-meeting-brunch/
LOCATION:Colonial Golf and Tennis Club\, 4901 Linglestown Road\, Harrisburg\, PA\, 17112\, United States
END:VEVENT
END:VCALENDAR