BEGIN:VCALENDAR
VERSION:2.0
PRODID:-//Sons of the American Revolution - ECPv6.15.18//NONSGML v1.0//EN
CALSCALE:GREGORIAN
METHOD:PUBLISH
X-WR-CALNAME:Sons of the American Revolution
X-ORIGINAL-URL:https://harrisferrysar.org
X-WR-CALDESC:Events for Sons of the American Revolution
REFRESH-INTERVAL;VALUE=DURATION:PT1H
X-Robots-Tag:noindex
X-PUBLISHED-TTL:PT1H
BEGIN:VTIMEZONE
TZID:America/New_York
BEGIN:DAYLIGHT
TZOFFSETFROM:-0500
TZOFFSETTO:-0400
TZNAME:EDT
DTSTART:20250309T070000
END:DAYLIGHT
BEGIN:STANDARD
TZOFFSETFROM:-0400
TZOFFSETTO:-0500
TZNAME:EST
DTSTART:20251102T060000
END:STANDARD
BEGIN:DAYLIGHT
TZOFFSETFROM:-0500
TZOFFSETTO:-0400
TZNAME:EDT
DTSTART:20260308T070000
END:DAYLIGHT
BEGIN:STANDARD
TZOFFSETFROM:-0400
TZOFFSETTO:-0500
TZNAME:EST
DTSTART:20261101T060000
END:STANDARD
BEGIN:DAYLIGHT
TZOFFSETFROM:-0500
TZOFFSETTO:-0400
TZNAME:EDT
DTSTART:20270314T070000
END:DAYLIGHT
BEGIN:STANDARD
TZOFFSETFROM:-0400
TZOFFSETTO:-0500
TZNAME:EST
DTSTART:20271107T060000
END:STANDARD
END:VTIMEZONE
BEGIN:VEVENT
DTSTART;TZID=America/New_York:20260207T080000
DTEND;TZID=America/New_York:20260207T140000
DTSTAMP:20260423T175749
CREATED:20260101T190551Z
LAST-MODIFIED:20260204T022051Z
UID:3097-1770451200-1770472800@harrisferrysar.org
SUMMARY:PASSAR 2026 Winter BOM Meeting
DESCRIPTION:The Pennsylvania Society SAR 2026 Winter BOM meeting has been scheduled\, hosted by Philadelphia Continental Chapter\, at King of Prussia\, PA. \n\nFri Feb 6 – Evening Social:  Registration from 3:00 PM to 6:00 PM.  Evening social from 6:00 PM to 9:00 PM.\nSat Feb 7 – BOM Meeting:  Registration from 8:00 AM to 9:00 AM.  Meeting from 9:00 AM to 12:00 PM.  Lunch with Presentation from 12:00 PM to 2:00 PM.\n\nPlease see registration form for complete agenda as well as hotel information. \n*NOTE:  on the website calendar it is entered that the event date is Feb 7\, as this is the actual date of the BOM meeting.  Please do not miss the evening social the day prior on Feb 6 if you wish to attend.* \nRegistration is closed.
URL:https://harrisferrysar.org/event/passar-2026-winter-bom-meeting/
LOCATION:The Hyatt House\, 240 Mall Blvd\, King of Prussia\, PA\, 19406\, United States
END:VEVENT
BEGIN:VEVENT
DTSTART;TZID=America/New_York:20260221T110000
DTEND;TZID=America/New_York:20260221T140000
DTSTAMP:20260423T175749
CREATED:20251212T155811Z
LAST-MODIFIED:20260303T141941Z
UID:3086-1771671600-1771682400@harrisferrysar.org
SUMMARY:Washington's Birthday Luncheon 2026
DESCRIPTION:Washington’s Birthday Luncheon\nFebruary 21\, 2026 – 11:00 a.m.\nAmerican Legion Dominic D. DiFrancesco Memorial Post 594\n137 E. High Street\, Middletown\, PA 17507\nDear Compatriots and Patriotic Partners\, \nYou are cordially invited to Washington’s Birthday Luncheon\, held annually by the Harris Ferry Chapter of the Sons of the American Revolution and the Harrisburg Chapter of the Daughters of the American Revolution. This year\, the celebration is hosted by the SAR and will be held on Saturday\, February 21\, 2026 at the American Legion Dominic D. DiFrancesco Memorial Post 594 at 137 E. High Street\, Middletown\, PA 17057. The celebration will begin at 11:00 a.m. with registration\, a recess to enjoy lunch\, and will finish with the program. \nThe meal this year is catered by the American Legion and will be buffet style. The meal will consist of beef\, chicken\, vegetables\, potatoes\, salad\, rolls\, dessert and coffee. Cost per attendee is $35.00. Guests are also welcome! Please send payment and registration form below to Secretary Gary L Coburn. \nOptional: There will be a limited quantity of George Washington cockades available for purchase at the registration table for $30.00 each. Please do not pay in advance. Each cockade is handmade and modeled after original cockades that George Washington had commissioned for the Continental Army. If all cockades sell the day of the event and you are still interested\, we will take your information and place an order after and deliver it to you. \nRegistration is closed.
URL:https://harrisferrysar.org/event/washingtons-birthday-luncheon-2026/
LOCATION:American Legion Dominic D. DiFrancesco Memorial Post 594\, 137 E. High Street\, Middletown\, PA\, 17057\, United States
END:VEVENT
BEGIN:VEVENT
DTSTART;VALUE=DATE:20260320
DTEND;VALUE=DATE:20260322
DTSTAMP:20260423T175749
CREATED:20260215T035351Z
LAST-MODIFIED:20260320T114200Z
UID:3180-1773964800-1774137599@harrisferrysar.org
SUMMARY:Pennsylvania C.A.R. 2026 State Conference
DESCRIPTION:Pennsylvania C.A.R. 2026 State Conference \nRegistration is closed.
URL:https://harrisferrysar.org/event/pennsylvania-c-a-r-2026-state-conference/
LOCATION:Hershey Lodge\, 325 University Dr\, Hershey\, PA\, 17033\, United States
END:VEVENT
BEGIN:VEVENT
DTSTART;TZID=America/New_York:20260321T103000
DTEND;TZID=America/New_York:20260321T120000
DTSTAMP:20260423T175749
CREATED:20260308T051348Z
LAST-MODIFIED:20260308T051348Z
UID:3192-1774089000-1774094400@harrisferrysar.org
SUMMARY:Harris Ferry BOM Meeting
DESCRIPTION:Good Afternoon Everyone!\n\nI am contacting you regarding an upcoming Harris Ferry Chapter BOM Meeting.\n\n\nDate:  Saturday\, March 21\, 2026\n\n\nTime:  10:30 am – 12:00 pm\n\n\nLocation:  Cocoa Diner\n\n\nAddress:  590 E Main St\, Hummelstown\, PA 17036\n\n\nOfficers\, please submit any items you need on the agenda to Secretary Coburn by March 16\, 2026.\n\nAll chapter members are welcome\, so please come on out!  2026 is going to be a busy year for Harris Ferry and the SAR.\n\n\nWe\, specifically\, have several grave markings already planned\, and the entire SAR is celebrating the 250th this year.\n\n\nI have updated information on official SAR 250th merchandise for anyone interested (to which I will bring with me and distribute via email).\n\n\nGary and the Hampden Township Veterans Recognition Committee have coordinated an official America250PA event on April 11\, 2026 that I’m sure he will be updating us on.\n\n\nAnd more!\n\n\nPlease message me if you will be attending or not (officers especially).\n\nThank You All!
URL:https://harrisferrysar.org/event/harris-ferry-bom-meeting-8/
LOCATION:Cocoa Diner\, 590 E Main St\, Hummelstown\, PA\, 17036\, United States
END:VEVENT
BEGIN:VEVENT
DTSTART;TZID=America/New_York:20260411T140000
DTEND;TZID=America/New_York:20260411T140000
DTSTAMP:20260423T175749
CREATED:20260101T191322Z
LAST-MODIFIED:20260410T213803Z
UID:3100-1775916000-1775916000@harrisferrysar.org
SUMMARY:America250PA Celebration w/ HTVRC
DESCRIPTION:The Hampden Township Veterans Recognition Committee is hosting an America250PA celebration at the Hampden Township Veterans Park.  Harris Ferry Chapter is supporting this celebration\, and neighboring SAR and DAR chapters will be contacting for their support as well. \nDate:  April 11\, 2026 \nTime:  2:00pm \nAttendance is free and all are welcome!  Enjoy historical talk\, patriotism\, color guard\, and an overall celebration for the 250th Anniversary of the United States!  Commemorative pins will be given out for free\, and even some exclusive 250th merchandise will be available for purchase (available to all\, not just SAR members).
URL:https://harrisferrysar.org/event/america250pa-celebration-w-htvrc/
LOCATION:Hampden Township Veterans Park\, 4345 Marketplace Way\, Enola\, PA\, 17025\, United States
END:VEVENT
BEGIN:VEVENT
DTSTART;TZID=America/New_York:20260420T080000
DTEND;TZID=America/New_York:20260420T120000
DTSTAMP:20260423T175749
CREATED:20260101T191909Z
LAST-MODIFIED:20260314T052252Z
UID:3102-1776672000-1776686400@harrisferrysar.org
SUMMARY:PSATS 2026 Annual Educational Conference
DESCRIPTION:The PSATS 2026 Annual Educational Conference and Exhibit Show is scheduled for April 19-22\, 2026\, and PASSAR is leading the Color Guard on the opening of the event.  There will be an SAR table on site where we will educate attendees on the SAR\, attempt recruitment\, and promote merchandise for the SAR 250th Anniversary of the Declaration of Independence. \nDate:  April 20\, 2026 \nTime:  8:00 AM Color Guard Muster (the start time of the actual event likely 9:00 AM) \nPlease notify President Lemon of your attendance\, Color guard participation\, or willingness to assist with the merchandise table.
URL:https://harrisferrysar.org/event/psats-2026-annual-educational-conference/
LOCATION:Hershey Lodge\, 325 University Dr\, Hershey\, PA\, 17033\, United States
END:VEVENT
BEGIN:VEVENT
DTSTART;VALUE=DATE:20260502
DTEND;VALUE=DATE:20260503
DTSTAMP:20260423T175749
CREATED:20260101T192329Z
LAST-MODIFIED:20260215T031230Z
UID:3105-1777680000-1777766399@harrisferrysar.org
SUMMARY:PASSAR 2026 Spring BOM & Annual Meeting
DESCRIPTION:The Pennsylvania Society SAR 2026 Spring BOM & Annual Meeting has been scheduled\, hosted by Washingtonburg\, at Camp Hill\, PA. \n\nFri May 1 – Evening Social\n\n4:30 PM to 6:00 PM – Registration\n6:00 PM to 9:00 PM – Evening Social\n\n\nSat May 2 – BOM Meeting\n\n8:00 AM to 9:00 AM – Registration\n9:00 AM to 11:30 AM – BOM Meeting\n12:00 PM to 1:30 PM – Lunch Buffet\n3:00 PM to 4:30 PM – Memorial Service\n6:00 PM to 7:00 PM – Social Hour w/ Cash Bar\n7:00 PM to 10:00 PM – Banquet Dinner and Officer Installation\n\n\n\nPlease see registration form for full details. \nRegistration (due April 11\, 2026)
URL:https://harrisferrysar.org/event/passar-2026-spring-bom-annual-meeting/
LOCATION:Penn Harris Hotel and Convention Center\, 1150 Camp Hill Bypass\, Camp Hill\, PA\, 17011\, United States
END:VEVENT
BEGIN:VEVENT
DTSTART;TZID=America/New_York:20260503T130000
DTEND;TZID=America/New_York:20260503T140000
DTSTAMP:20260423T175749
CREATED:20260101T192955Z
LAST-MODIFIED:20260101T192955Z
UID:3107-1777813200-1777816800@harrisferrysar.org
SUMMARY:Patriot Grave Marking at David's Community Bible Church
DESCRIPTION:Harris Ferry Chapter is celebrating the 250th Anniversary of the United States this year by honoring a number of Patriots of the American Revolution with SAR Patriot Grave Markers as well as a Pomeroy Foundation Patriot Burials Marker!  This event will be in cooperation with David’s Community Bible Church and Fort Halifax Chapter SAR. \nThe following details are tentative at this very moment: \nSunday\, May 3\, 2026 \n\nStart time:  1:00 pm is tentative\nMore details coming soon.\n\nThis event offers credit opportunities toward the Color Guard\, 250th Anniversary\, and Patriot Grave Marking Medals. \nEvent flyer coming soon.
URL:https://harrisferrysar.org/event/patriot-grave-marking-at-davids-community-bible-church/
LOCATION:David’s Community Bible Church\, 1072 State Route 25\, Millersburg\, PA\, 17061\, United States
END:VEVENT
BEGIN:VEVENT
DTSTART;VALUE=DATE:20260530
DTEND;VALUE=DATE:20260531
DTSTAMP:20260423T175749
CREATED:20260101T193316Z
LAST-MODIFIED:20260101T193316Z
UID:3110-1780099200-1780185599@harrisferrysar.org
SUMMARY:Patriot Grave Marking at Shoop's Cemetery
DESCRIPTION:Harris Ferry Chapter is celebrating the 250th Anniversary of the United States this year by honoring a number of Patriots of the American Revolution with an SAR Patriot Grave Marker plaque as well as a Pomeroy Foundation Patriot Burials Marker!  Our chapter is also intending to commemorate all veterans that are buried in the mass burial lot alongside the Patriots from Old Shoop’s Church.  This event will be in cooperation with Harrisburg Chapter DAR as it too is installing a marker. \nThe following details are tentative at this very moment: \nSunday\, May 30\, 2026 \n\nMore details coming soon.\n\nThis event offers credit opportunities toward the Color Guard\, 250th Anniversary\, and Patriot Grave Marking Medals. \nEvent flyer coming soon.
URL:https://harrisferrysar.org/event/patriot-grave-marking-at-shoops-cemetery/
LOCATION:Shoop’s Cemetery\, 4332 Lexington Street\, Harrisburg\, PA\, 17109\, United States
END:VEVENT
BEGIN:VEVENT
DTSTART;VALUE=DATE:20260613
DTEND;VALUE=DATE:20260614
DTSTAMP:20260423T175749
CREATED:20260308T202414Z
LAST-MODIFIED:20260308T202414Z
UID:3200-1781308800-1781395199@harrisferrysar.org
SUMMARY:Middletown 51st Annual Arts & Crafts Fair
DESCRIPTION:Harris Ferry Chapter SAR has secured a spot at the 51st Annual Arts & Crafts Fair in Middletown!  Be sure to stop on by to learn more about Middletown History\, the SAR\, and even exclusive 250th merchandise! \nMore details to follow.
URL:https://harrisferrysar.org/event/middletown-51st-annual-arts-crafts-fair/
LOCATION:PA
END:VEVENT
BEGIN:VEVENT
DTSTART;TZID=America/New_York:20260613T100000
DTEND;TZID=America/New_York:20260613T110000
DTSTAMP:20260423T175749
CREATED:20260101T193618Z
LAST-MODIFIED:20260101T193657Z
UID:3113-1781344800-1781348400@harrisferrysar.org
SUMMARY:Patriot Grave Marking at Union Deposit Cemetery
DESCRIPTION:Harris Ferry Chapter is celebrating the 250th Anniversary of the United States this year by honoring a number of Patriots of the American Revolution with SAR Patriot Grave Markers as well as a Pomeroy Foundation Patriot Burials Marker!  This event will be in cooperation with the South Hanover Township Historical Society. \nThe following details are tentative at this very moment: \nSaturday\, June 13\, 2026 \n\nStart time:  10:00 am is tentative\nMore details coming soon.\n\nThis event offers credit opportunities toward the Color Guard\, 250th Anniversary\, and Patriot Grave Marking Medals. \nEvent flyer coming soon.
URL:https://harrisferrysar.org/event/patriot-grave-marking-at-union-deposit-cemetery/
LOCATION:Union Deposit Cemetery\, 100 W Hershey Rd\, Hummelstown\, PA\, 17036\, United States
END:VEVENT
BEGIN:VEVENT
DTSTART;VALUE=DATE:20260702
DTEND;VALUE=DATE:20260706
DTSTAMP:20260423T175749
CREATED:20260101T195403Z
LAST-MODIFIED:20260214T181323Z
UID:3116-1782950400-1783295999@harrisferrysar.org
SUMMARY:250th Anniversary of the Declaration of Independence
DESCRIPTION:As part of the 250th Anniversary of the America and the Decade of the American Revolution\, specifically the signing of the Declaration of Independence\, the National Society SAR\, Pennsylvania Society SAR\, Philadelphia Continental Chapter SAR have organized several events and activities.  Special room rates at the Philadelphia Marriot Downtown are available (hotel registration link below). \nThe following is tentative: \n\nThursday\, July 2\, 2026\n\nReading of the Declaration of Independence\nTour of Independence Hall\nSAR Evening Reception at ____\n\n\nFriday\, July 3\, 2026\n\nSalute to Independence Parade\n“Ring It On” SAR Event\nSAR Gala Dinner at the Philadelphia Marriott Downtown\n\n\nSaturday\, July 4\, 2026\n\nSAR 250 Celebration\nSAR 250 Bench Dedication\nPhiladelphia 250 Events\n\n\nSunday\, July 5\, 2026\n\nGrave Marking for 5 Signers of the Declaration at Christ’s Church\nTour of the Museum of the American Revolution\nSocial Dinner at Glory Beer Hall\n\n\n\nMore details to come. \nClick here for Hotel Registration. \nClick here for Event Registration. \nClick here for Merch Website. (coming soon) \nThis event offers credit opportunities toward the Color Guard\, 250th Anniversary\, and Patriot Grave Marking Medals. \nEvent flyer coming soon. \nMerch flyer coming soon.
URL:https://harrisferrysar.org/event/250th-anniversary-of-the-declaration-of-independence/
LOCATION:Philadelphia Marriott Downtown\, 1201 Market Street\, Philadelphia\, PA\, 19107\, United States
END:VEVENT
END:VCALENDAR