BEGIN:VCALENDAR
VERSION:2.0
PRODID:-//Sons of the American Revolution - ECPv6.15.18//NONSGML v1.0//EN
CALSCALE:GREGORIAN
METHOD:PUBLISH
X-WR-CALNAME:Sons of the American Revolution
X-ORIGINAL-URL:https://harrisferrysar.org
X-WR-CALDESC:Events for Sons of the American Revolution
REFRESH-INTERVAL;VALUE=DURATION:PT1H
X-Robots-Tag:noindex
X-PUBLISHED-TTL:PT1H
BEGIN:VTIMEZONE
TZID:America/New_York
BEGIN:DAYLIGHT
TZOFFSETFROM:-0500
TZOFFSETTO:-0400
TZNAME:EDT
DTSTART:20250309T070000
END:DAYLIGHT
BEGIN:STANDARD
TZOFFSETFROM:-0400
TZOFFSETTO:-0500
TZNAME:EST
DTSTART:20251102T060000
END:STANDARD
BEGIN:DAYLIGHT
TZOFFSETFROM:-0500
TZOFFSETTO:-0400
TZNAME:EDT
DTSTART:20260308T070000
END:DAYLIGHT
BEGIN:STANDARD
TZOFFSETFROM:-0400
TZOFFSETTO:-0500
TZNAME:EST
DTSTART:20261101T060000
END:STANDARD
BEGIN:DAYLIGHT
TZOFFSETFROM:-0500
TZOFFSETTO:-0400
TZNAME:EDT
DTSTART:20270314T070000
END:DAYLIGHT
BEGIN:STANDARD
TZOFFSETFROM:-0400
TZOFFSETTO:-0500
TZNAME:EST
DTSTART:20271107T060000
END:STANDARD
END:VTIMEZONE
BEGIN:VEVENT
DTSTART;TZID=America/New_York:20260411T140000
DTEND;TZID=America/New_York:20260411T140000
DTSTAMP:20260423T133915
CREATED:20260101T191322Z
LAST-MODIFIED:20260410T213803Z
UID:3100-1775916000-1775916000@harrisferrysar.org
SUMMARY:America250PA Celebration w/ HTVRC
DESCRIPTION:The Hampden Township Veterans Recognition Committee is hosting an America250PA celebration at the Hampden Township Veterans Park.  Harris Ferry Chapter is supporting this celebration\, and neighboring SAR and DAR chapters will be contacting for their support as well. \nDate:  April 11\, 2026 \nTime:  2:00pm \nAttendance is free and all are welcome!  Enjoy historical talk\, patriotism\, color guard\, and an overall celebration for the 250th Anniversary of the United States!  Commemorative pins will be given out for free\, and even some exclusive 250th merchandise will be available for purchase (available to all\, not just SAR members).
URL:https://harrisferrysar.org/event/america250pa-celebration-w-htvrc/
LOCATION:Hampden Township Veterans Park\, 4345 Marketplace Way\, Enola\, PA\, 17025\, United States
END:VEVENT
END:VCALENDAR