BEGIN:VCALENDAR
VERSION:2.0
PRODID:-//Sons of the American Revolution - ECPv6.15.18//NONSGML v1.0//EN
CALSCALE:GREGORIAN
METHOD:PUBLISH
X-ORIGINAL-URL:https://harrisferrysar.org
X-WR-CALDESC:Events for Sons of the American Revolution
REFRESH-INTERVAL;VALUE=DURATION:PT1H
X-Robots-Tag:noindex
X-PUBLISHED-TTL:PT1H
BEGIN:VTIMEZONE
TZID:America/New_York
BEGIN:DAYLIGHT
TZOFFSETFROM:-0500
TZOFFSETTO:-0400
TZNAME:EDT
DTSTART:20240310T070000
END:DAYLIGHT
BEGIN:STANDARD
TZOFFSETFROM:-0400
TZOFFSETTO:-0500
TZNAME:EST
DTSTART:20241103T060000
END:STANDARD
BEGIN:DAYLIGHT
TZOFFSETFROM:-0500
TZOFFSETTO:-0400
TZNAME:EDT
DTSTART:20250309T070000
END:DAYLIGHT
BEGIN:STANDARD
TZOFFSETFROM:-0400
TZOFFSETTO:-0500
TZNAME:EST
DTSTART:20251102T060000
END:STANDARD
BEGIN:DAYLIGHT
TZOFFSETFROM:-0500
TZOFFSETTO:-0400
TZNAME:EDT
DTSTART:20260308T070000
END:DAYLIGHT
BEGIN:STANDARD
TZOFFSETFROM:-0400
TZOFFSETTO:-0500
TZNAME:EST
DTSTART:20261101T060000
END:STANDARD
END:VTIMEZONE
BEGIN:VEVENT
DTSTART;VALUE=DATE:20251108
DTEND;VALUE=DATE:20251109
DTSTAMP:20260423T204900
CREATED:20250807T161211Z
LAST-MODIFIED:20250825T151055Z
UID:2788-1762560000-1762646399@harrisferrysar.org
SUMMARY:PASSAR 2025 Fall BOM Meeting
DESCRIPTION:The Pennsylvania Society SAR 2025 Fall BOM meeting has been scheduled\, hosted by Continental Congress Chapter\, at Gettysburg\, PA. \n\nFri Nov 7 – Evening Social:  Registration from 3:00 PM to 6:00 PM.  Evening social from 7:00 PM to 9:00 PM.\nSat Nov 8 – BOM Meeting:  Registration from 8:00 AM to 9:00 AM.  Meeting from 9:00 AM to 12:00 PM.  Lunch with Presentation from 12:00 PM to 2:00 PM.\n\nPlease see registration form for complete agenda as well as hotel information. \n*NOTE:  on the website calendar it is entered that the event date is Nov 8\, since that is the actual BOM meeting.  Please do not miss the evening social the day prior on Nov 7 if you wish to attend.* \nPASSAR 2025 Fall BOM Registration
URL:https://harrisferrysar.org/event/passar-2025-fall-bom-meeting/
LOCATION:1863 Inn of Gettysburg\, 516 Baltimore St\, Gettysburg\, PA\, 17325\, United States
END:VEVENT
END:VCALENDAR