BEGIN:VCALENDAR
VERSION:2.0
PRODID:-//Sons of the American Revolution - ECPv6.15.18//NONSGML v1.0//EN
CALSCALE:GREGORIAN
METHOD:PUBLISH
X-WR-CALNAME:Sons of the American Revolution
X-ORIGINAL-URL:https://harrisferrysar.org
X-WR-CALDESC:Events for Sons of the American Revolution
REFRESH-INTERVAL;VALUE=DURATION:PT1H
X-Robots-Tag:noindex
X-PUBLISHED-TTL:PT1H
BEGIN:VTIMEZONE
TZID:America/New_York
BEGIN:DAYLIGHT
TZOFFSETFROM:-0500
TZOFFSETTO:-0400
TZNAME:EDT
DTSTART:20240310T070000
END:DAYLIGHT
BEGIN:STANDARD
TZOFFSETFROM:-0400
TZOFFSETTO:-0500
TZNAME:EST
DTSTART:20241103T060000
END:STANDARD
BEGIN:DAYLIGHT
TZOFFSETFROM:-0500
TZOFFSETTO:-0400
TZNAME:EDT
DTSTART:20250309T070000
END:DAYLIGHT
BEGIN:STANDARD
TZOFFSETFROM:-0400
TZOFFSETTO:-0500
TZNAME:EST
DTSTART:20251102T060000
END:STANDARD
BEGIN:DAYLIGHT
TZOFFSETFROM:-0500
TZOFFSETTO:-0400
TZNAME:EDT
DTSTART:20260308T070000
END:DAYLIGHT
BEGIN:STANDARD
TZOFFSETFROM:-0400
TZOFFSETTO:-0500
TZNAME:EST
DTSTART:20261101T060000
END:STANDARD
END:VTIMEZONE
BEGIN:VEVENT
DTSTART;TZID=America/New_York:20251101T090000
DTEND;TZID=America/New_York:20251101T223000
DTSTAMP:20260423T204731
CREATED:20251101T011706Z
LAST-MODIFIED:20251101T012015Z
UID:3000-1761987600-1762036200@harrisferrysar.org
SUMMARY:Harris Ferry BOM Meeting
DESCRIPTION:Howdy Gentlemen! \nI would like to let you know we are scheduling a Harris Ferry BOM meeting.  These meetings aren’t meant for just the board; all are welcome to attend! \nSaturday\, November 1\, 2025 \n9:00am – 10:30am \nThe Olive Tree (formerly Wertzville Diner) \n743 Wertzville Rd\, Enola\, PA 17025 \nTopics to discuss: \n\nNov 15th compatriot grave marking and Veterans Day celebration.\nOfficer election proposals and voting\nAnnual Meeting in December (This meeting will also be when awards will be given\, as well as the yearly dinner).\nDiscussion on Washington Dinner in February.\nA few upcoming events from neighboring chapters as well as a brief overview of a few things into 2026.\n\nIt’s scheduled early enough for us all to enjoy some breakfast.  Hope to see as many of you there as possible!
URL:https://harrisferrysar.org/event/harris-ferry-bom-meeting-7/
LOCATION:The Olive Tree (formerly Wertzville Diner)\, 743 Wertzville Rd\, Enola\, PA\, 17025\, United States
END:VEVENT
END:VCALENDAR