BEGIN:VCALENDAR
VERSION:2.0
PRODID:-//Sons of the American Revolution - ECPv6.15.18//NONSGML v1.0//EN
CALSCALE:GREGORIAN
METHOD:PUBLISH
X-WR-CALNAME:Sons of the American Revolution
X-ORIGINAL-URL:https://harrisferrysar.org
X-WR-CALDESC:Events for Sons of the American Revolution
REFRESH-INTERVAL;VALUE=DURATION:PT1H
X-Robots-Tag:noindex
X-PUBLISHED-TTL:PT1H
BEGIN:VTIMEZONE
TZID:America/New_York
BEGIN:DAYLIGHT
TZOFFSETFROM:-0500
TZOFFSETTO:-0400
TZNAME:EDT
DTSTART:20240310T070000
END:DAYLIGHT
BEGIN:STANDARD
TZOFFSETFROM:-0400
TZOFFSETTO:-0500
TZNAME:EST
DTSTART:20241103T060000
END:STANDARD
BEGIN:DAYLIGHT
TZOFFSETFROM:-0500
TZOFFSETTO:-0400
TZNAME:EDT
DTSTART:20250309T070000
END:DAYLIGHT
BEGIN:STANDARD
TZOFFSETFROM:-0400
TZOFFSETTO:-0500
TZNAME:EST
DTSTART:20251102T060000
END:STANDARD
BEGIN:DAYLIGHT
TZOFFSETFROM:-0500
TZOFFSETTO:-0400
TZNAME:EDT
DTSTART:20260308T070000
END:DAYLIGHT
BEGIN:STANDARD
TZOFFSETFROM:-0400
TZOFFSETTO:-0500
TZNAME:EST
DTSTART:20261101T060000
END:STANDARD
END:VTIMEZONE
BEGIN:VEVENT
DTSTART;VALUE=DATE:20250802
DTEND;VALUE=DATE:20250803
DTSTAMP:20260424T005544
CREATED:20250505T183357Z
LAST-MODIFIED:20250731T195214Z
UID:1924-1754092800-1754179199@harrisferrysar.org
SUMMARY:PASSAR 2025 Summer BOM Meeting
DESCRIPTION:The Pennsylvania Society SAR 2025 Summer BOM meeting has been scheduled\, hosted by Frontier Patriots Chapter\, at Altoona\, PA. \n\nFri Aug 1 – Evening Social:  Registration from 3:00 PM to 6:00 PM.  Evening social from 7:00 PM to 9:00 PM.\nSat Aug 2 – BOM Meeting:  Registration from 8:00 AM to 9:00 AM.  Meeting from 9:00 AM to 12:00 PM.  Lunch with Presentation from 12:00 PM to 2:00 PM.\n\nPlease see registration form for complete agenda as well as hotel information. \n*NOTE:  on the website calendar it is entered that the event date is Aug 2\, since that is the actual BOM meeting.  Please do not miss the evening social the day prior on Aug 1 if you wish to attend.* \nRegistration is closed.
URL:https://harrisferrysar.org/event/passar-2025-summer-bom-meeting/
LOCATION:Comfort Suites (Altoona)\, 140 Stroehman Drive\, Altoona\, PA\, 16601\, United States
END:VEVENT
END:VCALENDAR