BEGIN:VCALENDAR
VERSION:2.0
PRODID:-//Sons of the American Revolution - ECPv6.15.18//NONSGML v1.0//EN
CALSCALE:GREGORIAN
METHOD:PUBLISH
X-ORIGINAL-URL:https://harrisferrysar.org
X-WR-CALDESC:Events for Sons of the American Revolution
REFRESH-INTERVAL;VALUE=DURATION:PT1H
X-Robots-Tag:noindex
X-PUBLISHED-TTL:PT1H
BEGIN:VTIMEZONE
TZID:America/New_York
BEGIN:DAYLIGHT
TZOFFSETFROM:-0500
TZOFFSETTO:-0400
TZNAME:EDT
DTSTART:20240310T070000
END:DAYLIGHT
BEGIN:STANDARD
TZOFFSETFROM:-0400
TZOFFSETTO:-0500
TZNAME:EST
DTSTART:20241103T060000
END:STANDARD
BEGIN:DAYLIGHT
TZOFFSETFROM:-0500
TZOFFSETTO:-0400
TZNAME:EDT
DTSTART:20250309T070000
END:DAYLIGHT
BEGIN:STANDARD
TZOFFSETFROM:-0400
TZOFFSETTO:-0500
TZNAME:EST
DTSTART:20251102T060000
END:STANDARD
BEGIN:DAYLIGHT
TZOFFSETFROM:-0500
TZOFFSETTO:-0400
TZNAME:EDT
DTSTART:20260308T070000
END:DAYLIGHT
BEGIN:STANDARD
TZOFFSETFROM:-0400
TZOFFSETTO:-0500
TZNAME:EST
DTSTART:20261101T060000
END:STANDARD
END:VTIMEZONE
BEGIN:VEVENT
DTSTART;TZID=America/New_York:20250719T130000
DTEND;TZID=America/New_York:20250719T150000
DTSTAMP:20260424T020353
CREATED:20250716T002641Z
LAST-MODIFIED:20250716T002641Z
UID:2508-1752930000-1752937200@harrisferrysar.org
SUMMARY:“George Graham Vest: The Life and Times of Dog’s Best Friend”
DESCRIPTION:Compatriots and friends! Saturday July 19th at 1pm the editor to the SAR Magazine Steve Vest will be speaking at the National Civil War Museum in Harrisburg about his new book. His own distant cousin George Graham Vest coined the term “Dog is Man’s Best Friend!” Link to the website is here. Share with everyone and anyone\, this should be an exciting time! \n1 Lincoln Circle at Reservoir Park\, Harrisburg\, PA from 2:00 pm to 3:00 pm\, but Steve should there around 1:00 pm. \nIn-Person Book Talk – George Graham Vest
URL:https://harrisferrysar.org/event/george-graham-vest-the-life-and-times-of-dogs-best-friend/
LOCATION:National Civil War Museum\, 1 Lincoln Cir\, Harrisburg\, PA\, 17103\, United States
END:VEVENT
END:VCALENDAR