BEGIN:VCALENDAR
VERSION:2.0
PRODID:-//Sons of the American Revolution - ECPv6.15.18//NONSGML v1.0//EN
CALSCALE:GREGORIAN
METHOD:PUBLISH
X-WR-CALNAME:Sons of the American Revolution
X-ORIGINAL-URL:https://harrisferrysar.org
X-WR-CALDESC:Events for Sons of the American Revolution
REFRESH-INTERVAL;VALUE=DURATION:PT1H
X-Robots-Tag:noindex
X-PUBLISHED-TTL:PT1H
BEGIN:VTIMEZONE
TZID:America/New_York
BEGIN:DAYLIGHT
TZOFFSETFROM:-0500
TZOFFSETTO:-0400
TZNAME:EDT
DTSTART:20240310T070000
END:DAYLIGHT
BEGIN:STANDARD
TZOFFSETFROM:-0400
TZOFFSETTO:-0500
TZNAME:EST
DTSTART:20241103T060000
END:STANDARD
BEGIN:DAYLIGHT
TZOFFSETFROM:-0500
TZOFFSETTO:-0400
TZNAME:EDT
DTSTART:20250309T070000
END:DAYLIGHT
BEGIN:STANDARD
TZOFFSETFROM:-0400
TZOFFSETTO:-0500
TZNAME:EST
DTSTART:20251102T060000
END:STANDARD
BEGIN:DAYLIGHT
TZOFFSETFROM:-0500
TZOFFSETTO:-0400
TZNAME:EDT
DTSTART:20260308T070000
END:DAYLIGHT
BEGIN:STANDARD
TZOFFSETFROM:-0400
TZOFFSETTO:-0500
TZNAME:EST
DTSTART:20261101T060000
END:STANDARD
END:VTIMEZONE
BEGIN:VEVENT
DTSTART;TZID=America/New_York:20250705T110000
DTEND;TZID=America/New_York:20250705T130000
DTSTAMP:20260424T020240
CREATED:20250516T041247Z
LAST-MODIFIED:20250601T020931Z
UID:2019-1751713200-1751720400@harrisferrysar.org
SUMMARY:Carlisle Summerfair w/ Washingtonburg Chapter SAR
DESCRIPTION:11:00 am – 1:00 pm Revolutionary War Living History Program – U.S. Army Heritage and Education Center\, 950 Soldiers Drive. All ages welcome to join members from several local historical societies\, dressed in 18th-century attire\, to learn about Revolutionary War events and people. Visitors who complete all stations will earn a special gift in honor of America’s 250th anniversary. Stations include the Battle of Bunker Hill\, Molly Pitcher\, sign the Declaration of Independence with a quill pen\, take a selfie with a Revolutionary War soldier\, 18th-century games (shut-the-box\, Nine-Man-Morris\, Skittles). Groups attending: Washingtonburg SAR\, Harris Ferry SAR\, Shippensburg Historical Society. \n  \nOf the stations Harris Ferry will be assisting\, we will be assisting with the “Connecticut Station: Revolutionary War Flags.”  If you are interested in attending and volunteering please email President Lemon.  That way I can communicate that aid to Washingtonburg. \n  \nEntire Carlisle Summerfair Schedule
URL:https://harrisferrysar.org/event/carlisle-summerfair-w-washingtonburg-chapter-sar/
LOCATION:U.S. Army Heritage and Education Center\, 950 Soldiers Drive\, Carlisle\, PA\, 17013\, United States
END:VEVENT
BEGIN:VEVENT
DTSTART;TZID=America/New_York:20250705T180000
DTEND;TZID=America/New_York:20250705T200000
DTSTAMP:20260424T020240
CREATED:20250704T123346Z
LAST-MODIFIED:20250704T144449Z
UID:2258-1751738400-1751745600@harrisferrysar.org
SUMMARY:America 250 PA Dauphin County Kick-off Celebration
DESCRIPTION:Join the fun –  Saturday\, July 5 at Fort Hunter Park for a star-spangled evening of music\, history\, and sweet treats as we kick off the America250PA Dauphin County Celebration!\n6 PM – Ice Cream Social | 7 PM – Concert Begins. \nEnjoy a free concert by the Greater Harrisburg Concert Band. Indulge in historic ice cream flavors by Urban Churn\, including: Jefferson’s Vanilla | Apple Orchard Crumble | Colonial Triple Berry Cobbler | Betsy Ross’ Strawberry Shortcake | Liberty Lemonade Sorbet (dairy-free delight!) \nBring your picnic blanket\, lawn chairs\, and love of summer vibes—this event is FREE and perfect for the whole family. \nRain Date: Sunday\, July 6 (announcement will be made midday on July 5) \nPart of the Sunset Music & Movie Series\, made possible by our amazing event sponsors: Veolia\, Visit Hershey & Harrisburg\, Urban Churn\, and Ollie’s. \nLet the countdown to 250 years of American spirit begin! \n*This is not an SAR event\, but attendance does count toward the SAR 250 Medal* \nhttps://www.visithersheyharrisburg.org/event/detail/america-250-pa-dauphin-county-kick-off-celebration/25881/
URL:https://harrisferrysar.org/event/america-250-pa-dauphin-county-kick-off-celebration/
LOCATION:Fort Hunter Mansion & Park\, 5300 N. Front St\, Harrisburg\, PA\, 17110\, United States
END:VEVENT
END:VCALENDAR